BEGIN:VCALENDAR
VERSION:2.0
PRODID:-//Plains To Peaks - ECPv6.15.20//NONSGML v1.0//EN
CALSCALE:GREGORIAN
METHOD:PUBLISH
X-ORIGINAL-URL:https://www.plainstopeaks.org
X-WR-CALDESC:Events for Plains To Peaks
REFRESH-INTERVAL;VALUE=DURATION:PT1H
X-Robots-Tag:noindex
X-PUBLISHED-TTL:PT1H
BEGIN:VTIMEZONE
TZID:America/Denver
BEGIN:DAYLIGHT
TZOFFSETFROM:-0700
TZOFFSETTO:-0600
TZNAME:MDT
DTSTART:20250309T090000
END:DAYLIGHT
BEGIN:STANDARD
TZOFFSETFROM:-0600
TZOFFSETTO:-0700
TZNAME:MST
DTSTART:20251102T080000
END:STANDARD
BEGIN:DAYLIGHT
TZOFFSETFROM:-0700
TZOFFSETTO:-0600
TZNAME:MDT
DTSTART:20260308T090000
END:DAYLIGHT
BEGIN:STANDARD
TZOFFSETFROM:-0600
TZOFFSETTO:-0700
TZNAME:MST
DTSTART:20261101T080000
END:STANDARD
BEGIN:DAYLIGHT
TZOFFSETFROM:-0700
TZOFFSETTO:-0600
TZNAME:MDT
DTSTART:20270314T090000
END:DAYLIGHT
BEGIN:STANDARD
TZOFFSETFROM:-0600
TZOFFSETTO:-0700
TZNAME:MST
DTSTART:20271107T080000
END:STANDARD
END:VTIMEZONE
BEGIN:VEVENT
DTSTART;VALUE=DATE:20260421
DTEND;VALUE=DATE:20260422
DTSTAMP:20260425T053707
CREATED:20260326T215845Z
LAST-MODIFIED:20260326T220855Z
UID:5942-1776729600-1776815999@www.plainstopeaks.org
SUMMARY:RETAC Council Meeting
DESCRIPTION:Plains to Peaks RETAC Council Meeting \nWill be held virtually.
URL:https://www.plainstopeaks.org/event/plains-to-peaks-retac-council-meeting/
LOCATION:CO
END:VEVENT
BEGIN:VEVENT
DTSTART;VALUE=DATE:20260422
DTEND;VALUE=DATE:20260423
DTSTAMP:20260425T053707
CREATED:20260326T222019Z
LAST-MODIFIED:20260326T222019Z
UID:5961-1776816000-1776902399@www.plainstopeaks.org
SUMMARY:NDMS Exercise
DESCRIPTION:NDMS Exercise \nWill be held at DIA and in Colorado Springs
URL:https://www.plainstopeaks.org/event/ndms-exercise/
LOCATION:CO
END:VEVENT
BEGIN:VEVENT
DTSTART;VALUE=DATE:20260425
DTEND;VALUE=DATE:20260426
DTSTAMP:20260425T053707
CREATED:20260326T221251Z
LAST-MODIFIED:20260326T221251Z
UID:5954-1777075200-1777161599@www.plainstopeaks.org
SUMMARY:RETAC Regional Awards Program
DESCRIPTION:Plains to Peaks RETAC Regional Awards Program
URL:https://www.plainstopeaks.org/event/retac-regional-awards-program/
LOCATION:Limon High School\, 874 F Avenue\, Limon\, CO\, United States
END:VEVENT
BEGIN:VEVENT
DTSTART;TZID=America/Denver:20260425T070000
DTEND;TZID=America/Denver:20260426T163000
DTSTAMP:20260425T053707
CREATED:20260326T220700Z
LAST-MODIFIED:20260326T221438Z
UID:5949-1777100400-1777221000@www.plainstopeaks.org
SUMMARY:RETAC EMS/Trauma Conference
DESCRIPTION:Plains to Peaks RETAC EMS/Trauma Conference
URL:https://www.plainstopeaks.org/event/ems-trauma-conference/
LOCATION:Limon High School\, 874 F Avenue\, Limon\, CO\, United States
END:VEVENT
BEGIN:VEVENT
DTSTART;VALUE=DATE:20260430
DTEND;VALUE=DATE:20260502
DTSTAMP:20260425T053707
CREATED:20260326T221555Z
LAST-MODIFIED:20260326T221555Z
UID:5956-1777507200-1777679999@www.plainstopeaks.org
SUMMARY:SC HCC MCI Symposium
DESCRIPTION:SC HCC MCI Symposium
URL:https://www.plainstopeaks.org/event/sc-hcc-mci-symposium/
LOCATION:St. Francis Medical Center\, 6001 E Woodmen Rd\,  Colorado Springs\, CO\, 80923\, United States
END:VEVENT
BEGIN:VEVENT
DTSTART;VALUE=DATE:20260514
DTEND;VALUE=DATE:20260515
DTSTAMP:20260425T053707
CREATED:20260331T202444Z
LAST-MODIFIED:20260331T202534Z
UID:5965-1778716800-1778803199@www.plainstopeaks.org
SUMMARY:Critical Care/Community Paramedic Symposium
DESCRIPTION:For complete details please see the link below.
URL:https://www.plainstopeaks.org/event/paramedic-symposium/
LOCATION:Pikes Peak State College CHES Campus\, 1850 Cypress Semi Drive\, Colorado Springs\, CO\, 80921\, United States
END:VEVENT
END:VCALENDAR