BEGIN:VCALENDAR
VERSION:2.0
PRODID:-//Plains To Peaks - ECPv6.15.20//NONSGML v1.0//EN
CALSCALE:GREGORIAN
METHOD:PUBLISH
X-WR-CALNAME:Plains To Peaks
X-ORIGINAL-URL:https://www.plainstopeaks.org
X-WR-CALDESC:Events for Plains To Peaks
REFRESH-INTERVAL;VALUE=DURATION:PT1H
X-Robots-Tag:noindex
X-PUBLISHED-TTL:PT1H
BEGIN:VTIMEZONE
TZID:America/Denver
BEGIN:DAYLIGHT
TZOFFSETFROM:-0700
TZOFFSETTO:-0600
TZNAME:MDT
DTSTART:20190310T090000
END:DAYLIGHT
BEGIN:STANDARD
TZOFFSETFROM:-0600
TZOFFSETTO:-0700
TZNAME:MST
DTSTART:20191103T080000
END:STANDARD
BEGIN:DAYLIGHT
TZOFFSETFROM:-0700
TZOFFSETTO:-0600
TZNAME:MDT
DTSTART:20200308T090000
END:DAYLIGHT
BEGIN:STANDARD
TZOFFSETFROM:-0600
TZOFFSETTO:-0700
TZNAME:MST
DTSTART:20201101T080000
END:STANDARD
BEGIN:DAYLIGHT
TZOFFSETFROM:-0700
TZOFFSETTO:-0600
TZNAME:MDT
DTSTART:20210314T090000
END:DAYLIGHT
BEGIN:STANDARD
TZOFFSETFROM:-0600
TZOFFSETTO:-0700
TZNAME:MST
DTSTART:20211107T080000
END:STANDARD
BEGIN:DAYLIGHT
TZOFFSETFROM:-0700
TZOFFSETTO:-0600
TZNAME:MDT
DTSTART:20220313T090000
END:DAYLIGHT
BEGIN:STANDARD
TZOFFSETFROM:-0600
TZOFFSETTO:-0700
TZNAME:MST
DTSTART:20221106T080000
END:STANDARD
END:VTIMEZONE
BEGIN:VEVENT
DTSTART;TZID=America/Denver:20210817T120000
DTEND;TZID=America/Denver:20210817T130000
DTSTAMP:20260425T181258
CREATED:20210425T131749Z
LAST-MODIFIED:20210425T131749Z
UID:4986-1629201600-1629205200@www.plainstopeaks.org
SUMMARY:Children’s Hospital Colorado – Colorado Springs Grand Rounds
DESCRIPTION:Topic: Cerebral Palsy – It Takes a Village \nFor complete details and registration information\, click here.
URL:https://www.plainstopeaks.org/event/childrens-hospital-colorado-colorado-springs-grand-rounds-13/
LOCATION:Children’s Hospital Colorado Springs\, 4090 Briargate Pkwy\, Colorado Springs\, CO\, 80920\, United States
END:VEVENT
BEGIN:VEVENT
DTSTART;TZID=America/Denver:20210803T120000
DTEND;TZID=America/Denver:20210803T130000
DTSTAMP:20260425T181258
CREATED:20210425T131637Z
LAST-MODIFIED:20210425T131637Z
UID:4984-1627992000-1627995600@www.plainstopeaks.org
SUMMARY:Children’s Hospital Colorado – Colorado Springs Grand Rounds
DESCRIPTION:Topic: Sepsis and Septic Shock \nFor complete details and registration information\, click here.
URL:https://www.plainstopeaks.org/event/childrens-hospital-colorado-colorado-springs-grand-rounds-12/
LOCATION:Children’s Hospital Colorado Springs\, 4090 Briargate Pkwy\, Colorado Springs\, CO\, 80920\, United States
END:VEVENT
BEGIN:VEVENT
DTSTART;TZID=America/Denver:20210720T120000
DTEND;TZID=America/Denver:20210720T130000
DTSTAMP:20260425T181258
CREATED:20210425T131546Z
LAST-MODIFIED:20210425T131546Z
UID:4982-1626782400-1626786000@www.plainstopeaks.org
SUMMARY:Children’s Hospital Colorado – Colorado Springs Grand Rounds
DESCRIPTION:Topic: Trauma Case Review \nFor complete details and registration information\, click here.
URL:https://www.plainstopeaks.org/event/childrens-hospital-colorado-colorado-springs-grand-rounds-11/
LOCATION:Children’s Hospital Colorado Springs\, 4090 Briargate Pkwy\, Colorado Springs\, CO\, 80920\, United States
END:VEVENT
BEGIN:VEVENT
DTSTART;TZID=America/Denver:20210706T120000
DTEND;TZID=America/Denver:20210706T130000
DTSTAMP:20260425T181258
CREATED:20210425T131446Z
LAST-MODIFIED:20210425T131446Z
UID:4980-1625572800-1625576400@www.plainstopeaks.org
SUMMARY:Children’s Hospital Colorado – Colorado Springs Grand Rounds
DESCRIPTION:Topic: High Altitude Illness \nFor complete details and registration information\, click here.
URL:https://www.plainstopeaks.org/event/childrens-hospital-colorado-colorado-springs-grand-rounds-10/
LOCATION:Children’s Hospital Colorado Springs\, 4090 Briargate Pkwy\, Colorado Springs\, CO\, 80920\, United States
END:VEVENT
BEGIN:VEVENT
DTSTART;TZID=America/Denver:20210615T120000
DTEND;TZID=America/Denver:20210615T130000
DTSTAMP:20260425T181258
CREATED:20210425T131349Z
LAST-MODIFIED:20210425T131349Z
UID:4978-1623758400-1623762000@www.plainstopeaks.org
SUMMARY:Children’s Hospital Colorado – Colorado Springs Grand Rounds
DESCRIPTION:Topic: Summertime Injuries – Fireworks and Drowning \nFor complete details and registration information\, click here.
URL:https://www.plainstopeaks.org/event/childrens-hospital-colorado-colorado-springs-grand-rounds-9/
LOCATION:Children’s Hospital Colorado Springs\, 4090 Briargate Pkwy\, Colorado Springs\, CO\, 80920\, United States
END:VEVENT
BEGIN:VEVENT
DTSTART;TZID=America/Denver:20210601T120000
DTEND;TZID=America/Denver:20210601T130000
DTSTAMP:20260425T181258
CREATED:20210425T131110Z
LAST-MODIFIED:20210425T131110Z
UID:4975-1622548800-1622552400@www.plainstopeaks.org
SUMMARY:Children’s Hospital Colorado – Colorado Springs Grand Rounds
DESCRIPTION:Topic: Diabetic Ketoacidosis \nFor complete details and registration information\, click here.
URL:https://www.plainstopeaks.org/event/childrens-hospital-colorado-colorado-springs-grand-rounds-8/
LOCATION:Children’s Hospital Colorado Springs\, 4090 Briargate Pkwy\, Colorado Springs\, CO\, 80920\, United States
END:VEVENT
BEGIN:VEVENT
DTSTART;TZID=America/Denver:20201216T180000
DTEND;TZID=America/Denver:20201216T220000
DTSTAMP:20260425T181258
CREATED:20190831T222200Z
LAST-MODIFIED:20190831T222200Z
UID:4166-1608141600-1608156000@www.plainstopeaks.org
SUMMARY:Penrose EMS Institute - Basic ECG
DESCRIPTION:The Penrose-St Francis EMS Institute is offering Basic ECG. This course provides the student with core knowledge and skills to understand Cardiac A&P in relation to interpretation of Basic Cardiac Rhythms / Dysrhythmias. This class will include a sheep heart dissection lab. \nClasses are held on Monday and Wednesday Evenings\, 6-10 pm\nNovember 30th – December 2nd\, 7th\, 9th\, 14th\, & 16th\, 2020 \nPenrose Hospital\n2222 North Nevada Avenue Colorado Springs\, Colorado 80907 EMS Institute Classroom #2 \n(at our newly remodeled Educational Facility\, North Elevators to the Second Floor\, follow the signs to the EMS Institute) \nCourse Tuition: $200.00 There is no required Text for this class. To Register and more information follow the link: \nEKG Course Registration \nOr go to: www.centura.org/ems\, choose “Southern Colorado EMS Education”\, on the right select “EMS Courses”\, then “EKG course”\, then “View courses and register”. \nQuestions: Contact Max W. Mabrey\, NRP maxmabrey@centura.org (719)499-2596 or Brandi Martinez\, CMA brandimartinez2@centura.org (719)776-3673 \nCentura Health does not discriminate against any person on the basis of race\, color\, national origin\, disability\, age\, sex\, religion\, creed\, ancestry\, sexual orientation\, and marital status in admission\, treatment\, or participation in its programs\, services and activities\, or inemployment. For further information about this policy contact Centura Health’s Office of the General Counsel at 1-303-673-8166 (TTY: 711). Copyright © Centura Health\, 2017. ATENCIÓN: Si habla español\, tiene a su disposición servicios gratuitos de asistencia lingüística. Llame al 1- 719-776-5370 (TTY: 711). CHÚ Ý: Nếu bạn nói Tiếng Việt\, có các dịch vụ hỗ trợ ngôn ngữ miễn phí dành cho bạn. Gọi số 1-719-776-5370 (TTY: 711).
URL:https://www.plainstopeaks.org/event/penrose-ems-institute-basic-ecg-11/
LOCATION:CO
END:VEVENT
BEGIN:VEVENT
DTSTART;TZID=America/Denver:20201215T120000
DTEND;TZID=America/Denver:20201215T130000
DTSTAMP:20260425T181258
CREATED:20201001T000124Z
LAST-MODIFIED:20201001T000124Z
UID:4861-1608033600-1608037200@www.plainstopeaks.org
SUMMARY:Children’s Hospital Colorado – Colorado Springs Grand Rounds
DESCRIPTION:GI Emergencies \nFor complete details\, click here to view the flyer.
URL:https://www.plainstopeaks.org/event/childrens-hospital-colorado-colorado-springs-grand-rounds-7/
LOCATION:CO
END:VEVENT
BEGIN:VEVENT
DTSTART;TZID=America/Denver:20201214T180000
DTEND;TZID=America/Denver:20201214T220000
DTSTAMP:20260425T181258
CREATED:20190831T222121Z
LAST-MODIFIED:20190831T222121Z
UID:4164-1607968800-1607983200@www.plainstopeaks.org
SUMMARY:Penrose EMS Institute - Basic ECG
DESCRIPTION:The Penrose-St Francis EMS Institute is offering Basic ECG. This course provides the student with core knowledge and skills to understand Cardiac A&P in relation to interpretation of Basic Cardiac Rhythms / Dysrhythmias. This class will include a sheep heart dissection lab. \nClasses are held on Monday and Wednesday Evenings\, 6-10 pm\nNovember 30th – December 2nd\, 7th\, 9th\, 14th\, & 16th\, 2020 \nPenrose Hospital\n2222 North Nevada Avenue Colorado Springs\, Colorado 80907 EMS Institute Classroom #2 \n(at our newly remodeled Educational Facility\, North Elevators to the Second Floor\, follow the signs to the EMS Institute) \nCourse Tuition: $200.00 There is no required Text for this class. To Register and more information follow the link: \nEKG Course Registration \nOr go to: www.centura.org/ems\, choose “Southern Colorado EMS Education”\, on the right select “EMS Courses”\, then “EKG course”\, then “View courses and register”. \nQuestions: Contact Max W. Mabrey\, NRP maxmabrey@centura.org (719)499-2596 or Brandi Martinez\, CMA brandimartinez2@centura.org (719)776-3673 \nCentura Health does not discriminate against any person on the basis of race\, color\, national origin\, disability\, age\, sex\, religion\, creed\, ancestry\, sexual orientation\, and marital status in admission\, treatment\, or participation in its programs\, services and activities\, or inemployment. For further information about this policy contact Centura Health’s Office of the General Counsel at 1-303-673-8166 (TTY: 711). Copyright © Centura Health\, 2017. ATENCIÓN: Si habla español\, tiene a su disposición servicios gratuitos de asistencia lingüística. Llame al 1- 719-776-5370 (TTY: 711). CHÚ Ý: Nếu bạn nói Tiếng Việt\, có các dịch vụ hỗ trợ ngôn ngữ miễn phí dành cho bạn. Gọi số 1-719-776-5370 (TTY: 711).
URL:https://www.plainstopeaks.org/event/penrose-ems-institute-basic-ecg-10/
LOCATION:CO
END:VEVENT
BEGIN:VEVENT
DTSTART;TZID=America/Denver:20201209T180000
DTEND;TZID=America/Denver:20201209T220000
DTSTAMP:20260425T181258
CREATED:20190831T222027Z
LAST-MODIFIED:20190831T222027Z
UID:4162-1607536800-1607551200@www.plainstopeaks.org
SUMMARY:Penrose EMS Institute - Basic ECG
DESCRIPTION:The Penrose-St Francis EMS Institute is offering Basic ECG. This course provides the student with core knowledge and skills to understand Cardiac A&P in relation to interpretation of Basic Cardiac Rhythms / Dysrhythmias. This class will include a sheep heart dissection lab. \nClasses are held on Monday and Wednesday Evenings\, 6-10 pm\nNovember 30th – December 2nd\, 7th\, 9th\, 14th\, & 16th\, 2020 \nPenrose Hospital\n2222 North Nevada Avenue Colorado Springs\, Colorado 80907 EMS Institute Classroom #2 \n(at our newly remodeled Educational Facility\, North Elevators to the Second Floor\, follow the signs to the EMS Institute) \nCourse Tuition: $200.00 There is no required Text for this class. To Register and more information follow the link: \nEKG Course Registration \nOr go to: www.centura.org/ems\, choose “Southern Colorado EMS Education”\, on the right select “EMS Courses”\, then “EKG course”\, then “View courses and register”. \nQuestions: Contact Max W. Mabrey\, NRP maxmabrey@centura.org (719)499-2596 or Brandi Martinez\, CMA brandimartinez2@centura.org (719)776-3673 \nCentura Health does not discriminate against any person on the basis of race\, color\, national origin\, disability\, age\, sex\, religion\, creed\, ancestry\, sexual orientation\, and marital status in admission\, treatment\, or participation in its programs\, services and activities\, or inemployment. For further information about this policy contact Centura Health’s Office of the General Counsel at 1-303-673-8166 (TTY: 711). Copyright © Centura Health\, 2017. ATENCIÓN: Si habla español\, tiene a su disposición servicios gratuitos de asistencia lingüística. Llame al 1- 719-776-5370 (TTY: 711). CHÚ Ý: Nếu bạn nói Tiếng Việt\, có các dịch vụ hỗ trợ ngôn ngữ miễn phí dành cho bạn. Gọi số 1-719-776-5370 (TTY: 711).
URL:https://www.plainstopeaks.org/event/penrose-ems-institute-basic-ecg-9/
LOCATION:CO
END:VEVENT
BEGIN:VEVENT
DTSTART;TZID=America/Denver:20201207T180000
DTEND;TZID=America/Denver:20201207T220000
DTSTAMP:20260425T181258
CREATED:20190831T221933Z
LAST-MODIFIED:20190831T221933Z
UID:4160-1607364000-1607378400@www.plainstopeaks.org
SUMMARY:Penrose EMS Institute - Basic ECG
DESCRIPTION:The Penrose-St Francis EMS Institute is offering Basic ECG. This course provides the student with core knowledge and skills to understand Cardiac A&P in relation to interpretation of Basic Cardiac Rhythms / Dysrhythmias. This class will include a sheep heart dissection lab. \nClasses are held on Monday and Wednesday Evenings\, 6-10 pm\nNovember 30th – December 2nd\, 7th\, 9th\, 14th\, & 16th\, 2020 \nPenrose Hospital\n2222 North Nevada Avenue Colorado Springs\, Colorado 80907 EMS Institute Classroom #2 \n(at our newly remodeled Educational Facility\, North Elevators to the Second Floor\, follow the signs to the EMS Institute) \nCourse Tuition: $200.00 There is no required Text for this class. To Register and more information follow the link: \nEKG Course Registration \nOr go to: www.centura.org/ems\, choose “Southern Colorado EMS Education”\, on the right select “EMS Courses”\, then “EKG course”\, then “View courses and register”. \nQuestions: Contact Max W. Mabrey\, NRP maxmabrey@centura.org (719)499-2596 or Brandi Martinez\, CMA brandimartinez2@centura.org (719)776-3673 \nCentura Health does not discriminate against any person on the basis of race\, color\, national origin\, disability\, age\, sex\, religion\, creed\, ancestry\, sexual orientation\, and marital status in admission\, treatment\, or participation in its programs\, services and activities\, or inemployment. For further information about this policy contact Centura Health’s Office of the General Counsel at 1-303-673-8166 (TTY: 711). Copyright © Centura Health\, 2017. ATENCIÓN: Si habla español\, tiene a su disposición servicios gratuitos de asistencia lingüística. Llame al 1- 719-776-5370 (TTY: 711). CHÚ Ý: Nếu bạn nói Tiếng Việt\, có các dịch vụ hỗ trợ ngôn ngữ miễn phí dành cho bạn. Gọi số 1-719-776-5370 (TTY: 711).
URL:https://www.plainstopeaks.org/event/penrose-ems-institute-basic-ecg-8/
LOCATION:CO
END:VEVENT
BEGIN:VEVENT
DTSTART;TZID=America/Denver:20201202T180000
DTEND;TZID=America/Denver:20201202T220000
DTSTAMP:20260425T181258
CREATED:20190831T221848Z
LAST-MODIFIED:20190831T221848Z
UID:4158-1606932000-1606946400@www.plainstopeaks.org
SUMMARY:Penrose EMS Institute - Basic ECG
DESCRIPTION:The Penrose-St Francis EMS Institute is offering Basic ECG. This course provides the student with core knowledge and skills to understand Cardiac A&P in relation to interpretation of Basic Cardiac Rhythms / Dysrhythmias. This class will include a sheep heart dissection lab. \nClasses are held on Monday and Wednesday Evenings\, 6-10 pm\nNovember 30th – December 2nd\, 7th\, 9th\, 14th\, & 16th\, 2020 \nPenrose Hospital\n2222 North Nevada Avenue Colorado Springs\, Colorado 80907 EMS Institute Classroom #2 \n(at our newly remodeled Educational Facility\, North Elevators to the Second Floor\, follow the signs to the EMS Institute) \nCourse Tuition: $200.00 There is no required Text for this class. To Register and more information follow the link: \nEKG Course Registration \nOr go to: www.centura.org/ems\, choose “Southern Colorado EMS Education”\, on the right select “EMS Courses”\, then “EKG course”\, then “View courses and register”. \nQuestions: Contact Max W. Mabrey\, NRP maxmabrey@centura.org (719)499-2596 or Brandi Martinez\, CMA brandimartinez2@centura.org (719)776-3673 \nCentura Health does not discriminate against any person on the basis of race\, color\, national origin\, disability\, age\, sex\, religion\, creed\, ancestry\, sexual orientation\, and marital status in admission\, treatment\, or participation in its programs\, services and activities\, or inemployment. For further information about this policy contact Centura Health’s Office of the General Counsel at 1-303-673-8166 (TTY: 711). Copyright © Centura Health\, 2017. ATENCIÓN: Si habla español\, tiene a su disposición servicios gratuitos de asistencia lingüística. Llame al 1- 719-776-5370 (TTY: 711). CHÚ Ý: Nếu bạn nói Tiếng Việt\, có các dịch vụ hỗ trợ ngôn ngữ miễn phí dành cho bạn. Gọi số 1-719-776-5370 (TTY: 711).
URL:https://www.plainstopeaks.org/event/penrose-ems-institute-basic-ecg-7/
LOCATION:CO
END:VEVENT
BEGIN:VEVENT
DTSTART;TZID=America/Denver:20201201T120000
DTEND;TZID=America/Denver:20201201T130000
DTSTAMP:20260425T181258
CREATED:20200930T235956Z
LAST-MODIFIED:20200930T235956Z
UID:4859-1606824000-1606827600@www.plainstopeaks.org
SUMMARY:Children’s Hospital Colorado – Colorado Springs Grand Rounds
DESCRIPTION:Pediatric Traumatic Brain Injury: Skull Fractures and Beyond… \nFor complete details\, click here to view the flyer.
URL:https://www.plainstopeaks.org/event/childrens-hospital-colorado-colorado-springs-grand-rounds-6/
LOCATION:CO
END:VEVENT
BEGIN:VEVENT
DTSTART;TZID=America/Denver:20201130T180000
DTEND;TZID=America/Denver:20201130T220000
DTSTAMP:20260425T181258
CREATED:20190831T221753Z
LAST-MODIFIED:20190831T221753Z
UID:4156-1606759200-1606773600@www.plainstopeaks.org
SUMMARY:Penrose EMS Institute - Basic ECG
DESCRIPTION:The Penrose-St Francis EMS Institute is offering Basic ECG. This course provides the student with core knowledge and skills to understand Cardiac A&P in relation to interpretation of Basic Cardiac Rhythms / Dysrhythmias. This class will include a sheep heart dissection lab. \nClasses are held on Monday and Wednesday Evenings\, 6-10 pm\nNovember 30th – December 2nd\, 7th\, 9th\, 14th\, & 16th\, 2020 \nPenrose Hospital\n2222 North Nevada Avenue Colorado Springs\, Colorado 80907 EMS Institute Classroom #2 \n(at our newly remodeled Educational Facility\, North Elevators to the Second Floor\, follow the signs to the EMS Institute) \nCourse Tuition: $200.00 There is no required Text for this class. To Register and more information follow the link: \nEKG Course Registration \nOr go to: www.centura.org/ems\, choose “Southern Colorado EMS Education”\, on the right select “EMS Courses”\, then “EKG course”\, then “View courses and register”. \nQuestions: Contact Max W. Mabrey\, NRP maxmabrey@centura.org (719)499-2596 or Brandi Martinez\, CMA brandimartinez2@centura.org (719)776-3673 \nCentura Health does not discriminate against any person on the basis of race\, color\, national origin\, disability\, age\, sex\, religion\, creed\, ancestry\, sexual orientation\, and marital status in admission\, treatment\, or participation in its programs\, services and activities\, or inemployment. For further information about this policy contact Centura Health’s Office of the General Counsel at 1-303-673-8166 (TTY: 711). Copyright © Centura Health\, 2017. ATENCIÓN: Si habla español\, tiene a su disposición servicios gratuitos de asistencia lingüística. Llame al 1- 719-776-5370 (TTY: 711). CHÚ Ý: Nếu bạn nói Tiếng Việt\, có các dịch vụ hỗ trợ ngôn ngữ miễn phí dành cho bạn. Gọi số 1-719-776-5370 (TTY: 711).
URL:https://www.plainstopeaks.org/event/penrose-ems-institute-basic-ecg-6/
LOCATION:CO
END:VEVENT
BEGIN:VEVENT
DTSTART;TZID=America/Denver:20201121T080000
DTEND;TZID=America/Denver:20201121T143000
DTSTAMP:20260425T181258
CREATED:20190904T183158Z
LAST-MODIFIED:20190904T183158Z
UID:4354-1605945600-1605969000@www.plainstopeaks.org
SUMMARY:Penrose St Francis EMS Institute - EMT Course
DESCRIPTION:For complete details\, follow the link: \nPenrose St Francis EMS Institute – EMT Course – July 2020
URL:https://www.plainstopeaks.org/event/penrose-st-francis-ems-institute-emt-course-74/
LOCATION:CO
END:VEVENT
BEGIN:VEVENT
DTSTART;TZID=America/Denver:20201118T180000
DTEND;TZID=America/Denver:20201118T220000
DTSTAMP:20260425T181258
CREATED:20190904T183058Z
LAST-MODIFIED:20190904T183058Z
UID:4352-1605722400-1605736800@www.plainstopeaks.org
SUMMARY:Penrose St Francis EMS Institute - EMT Course
DESCRIPTION:For complete details\, follow the link: \nPenrose St Francis EMS Institute – EMT Course – July 2020
URL:https://www.plainstopeaks.org/event/penrose-st-francis-ems-institute-emt-course-73/
LOCATION:CO
END:VEVENT
BEGIN:VEVENT
DTSTART;TZID=America/Denver:20201117T120000
DTEND;TZID=America/Denver:20201117T130000
DTSTAMP:20260425T181258
CREATED:20200930T235832Z
LAST-MODIFIED:20200930T235832Z
UID:4857-1605614400-1605618000@www.plainstopeaks.org
SUMMARY:Children’s Hospital Colorado – Colorado Springs Grand Rounds
DESCRIPTION:Asthma Treatment Strategies in Children: Updates on New Recommendations and How to Use Them in Practice \nFor complete details\, click here to view the flyer.
URL:https://www.plainstopeaks.org/event/childrens-hospital-colorado-colorado-springs-grand-rounds-5/
LOCATION:CO
END:VEVENT
BEGIN:VEVENT
DTSTART;TZID=America/Denver:20201116T180000
DTEND;TZID=America/Denver:20201116T220000
DTSTAMP:20260425T181258
CREATED:20190904T182921Z
LAST-MODIFIED:20190904T182921Z
UID:4350-1605549600-1605564000@www.plainstopeaks.org
SUMMARY:Penrose St Francis EMS Institute - EMT Course
DESCRIPTION:For complete details\, follow the link: \nPenrose St Francis EMS Institute – EMT Course – July 2020
URL:https://www.plainstopeaks.org/event/penrose-st-francis-ems-institute-emt-course-72/
LOCATION:CO
END:VEVENT
BEGIN:VEVENT
DTSTART;TZID=America/Denver:20201111T180000
DTEND;TZID=America/Denver:20201111T220000
DTSTAMP:20260425T181258
CREATED:20190904T182843Z
LAST-MODIFIED:20190904T182843Z
UID:4348-1605117600-1605132000@www.plainstopeaks.org
SUMMARY:Penrose St Francis EMS Institute - EMT Course
DESCRIPTION:For complete details\, follow the link: \nPenrose St Francis EMS Institute – EMT Course – July 2020
URL:https://www.plainstopeaks.org/event/penrose-st-francis-ems-institute-emt-course-71/
LOCATION:CO
END:VEVENT
BEGIN:VEVENT
DTSTART;TZID=America/Denver:20201109T180000
DTEND;TZID=America/Denver:20201109T220000
DTSTAMP:20260425T181258
CREATED:20190904T182803Z
LAST-MODIFIED:20190904T182803Z
UID:4346-1604944800-1604959200@www.plainstopeaks.org
SUMMARY:Penrose St Francis EMS Institute - EMT Course
DESCRIPTION:For complete details\, follow the link: \nPenrose St Francis EMS Institute – EMT Course – July 2020
URL:https://www.plainstopeaks.org/event/penrose-st-francis-ems-institute-emt-course-70/
LOCATION:CO
END:VEVENT
BEGIN:VEVENT
DTSTART;TZID=America/Denver:20201104T180000
DTEND;TZID=America/Denver:20201104T220000
DTSTAMP:20260425T181258
CREATED:20190904T182715Z
LAST-MODIFIED:20190904T182715Z
UID:4344-1604512800-1604527200@www.plainstopeaks.org
SUMMARY:Penrose St Francis EMS Institute - EMT Course
DESCRIPTION:For complete details\, follow the link: \nPenrose St Francis EMS Institute – EMT Course – July 2020
URL:https://www.plainstopeaks.org/event/penrose-st-francis-ems-institute-emt-course-69/
LOCATION:CO
END:VEVENT
BEGIN:VEVENT
DTSTART;TZID=America/Denver:20201103T120000
DTEND;TZID=America/Denver:20201103T130000
DTSTAMP:20260425T181258
CREATED:20200930T235632Z
LAST-MODIFIED:20200930T235632Z
UID:4855-1604404800-1604408400@www.plainstopeaks.org
SUMMARY:Children’s Hospital Colorado – Colorado Springs Grand Rounds
DESCRIPTION:Pathological Bone Lesions in the Setting of Trauma Management Principles and Considerations \nFor complete details\, click here to view the flyer.
URL:https://www.plainstopeaks.org/event/childrens-hospital-colorado-colorado-springs-grand-rounds-4/
LOCATION:CO
END:VEVENT
BEGIN:VEVENT
DTSTART;TZID=America/Denver:20201102T180000
DTEND;TZID=America/Denver:20201102T220000
DTSTAMP:20260425T181258
CREATED:20190904T182632Z
LAST-MODIFIED:20190904T182632Z
UID:4342-1604340000-1604354400@www.plainstopeaks.org
SUMMARY:Penrose St Francis EMS Institute - EMT Course
DESCRIPTION:For complete details\, follow the link: \nPenrose St Francis EMS Institute – EMT Course – July 2020
URL:https://www.plainstopeaks.org/event/penrose-st-francis-ems-institute-emt-course-68/
LOCATION:CO
END:VEVENT
BEGIN:VEVENT
DTSTART;TZID=America/Denver:20201028T180000
DTEND;TZID=America/Denver:20201028T220000
DTSTAMP:20260425T181258
CREATED:20190904T182542Z
LAST-MODIFIED:20190904T182542Z
UID:4340-1603908000-1603922400@www.plainstopeaks.org
SUMMARY:Penrose St Francis EMS Institute - EMT Course
DESCRIPTION:For complete details\, follow the link: \nPenrose St Francis EMS Institute – EMT Course – July 2020
URL:https://www.plainstopeaks.org/event/penrose-st-francis-ems-institute-emt-course-67/
LOCATION:CO
END:VEVENT
BEGIN:VEVENT
DTSTART;TZID=America/Denver:20201026T180000
DTEND;TZID=America/Denver:20201026T220000
DTSTAMP:20260425T181258
CREATED:20190904T182502Z
LAST-MODIFIED:20190904T182502Z
UID:4338-1603735200-1603749600@www.plainstopeaks.org
SUMMARY:Penrose St Francis EMS Institute - EMT Course
DESCRIPTION:For complete details\, follow the link: \nPenrose St Francis EMS Institute – EMT Course – July 2020
URL:https://www.plainstopeaks.org/event/penrose-st-francis-ems-institute-emt-course-66/
LOCATION:CO
END:VEVENT
BEGIN:VEVENT
DTSTART;TZID=America/Denver:20201021T180000
DTEND;TZID=America/Denver:20201021T220000
DTSTAMP:20260425T181258
CREATED:20190904T182346Z
LAST-MODIFIED:20190904T182346Z
UID:4336-1603303200-1603317600@www.plainstopeaks.org
SUMMARY:Penrose St Francis EMS Institute - EMT Course
DESCRIPTION:For complete details\, follow the link: \nPenrose St Francis EMS Institute – EMT Course – July 2020
URL:https://www.plainstopeaks.org/event/penrose-st-francis-ems-institute-emt-course-65/
LOCATION:CO
END:VEVENT
BEGIN:VEVENT
DTSTART;TZID=America/Denver:20201020T120000
DTEND;TZID=America/Denver:20201020T130000
DTSTAMP:20260425T181258
CREATED:20200930T235429Z
LAST-MODIFIED:20200930T235429Z
UID:4853-1603195200-1603198800@www.plainstopeaks.org
SUMMARY:Children’s Hospital Colorado – Colorado Springs Grand Rounds
DESCRIPTION:Treating Kids and Teens with Mental Illness in a Pandemic \nFor complete details\, click here to view the flyer.
URL:https://www.plainstopeaks.org/event/childrens-hospital-colorado-colorado-springs-grand-rounds-3/
LOCATION:CO
END:VEVENT
BEGIN:VEVENT
DTSTART;TZID=America/Denver:20201019T180000
DTEND;TZID=America/Denver:20201019T220000
DTSTAMP:20260425T181258
CREATED:20190904T182305Z
LAST-MODIFIED:20190904T182305Z
UID:4334-1603130400-1603144800@www.plainstopeaks.org
SUMMARY:Penrose St Francis EMS Institute - EMT Course
DESCRIPTION:For complete details\, follow the link: \nPenrose St Francis EMS Institute – EMT Course – July 2020
URL:https://www.plainstopeaks.org/event/penrose-st-francis-ems-institute-emt-course-64/
LOCATION:CO
END:VEVENT
BEGIN:VEVENT
DTSTART;TZID=America/Denver:20201014T180000
DTEND;TZID=America/Denver:20201014T220000
DTSTAMP:20260425T181258
CREATED:20190904T182229Z
LAST-MODIFIED:20190904T182229Z
UID:4332-1602698400-1602712800@www.plainstopeaks.org
SUMMARY:Penrose St Francis EMS Institute - EMT Course
DESCRIPTION:For complete details\, follow the link: \nPenrose St Francis EMS Institute – EMT Course – July 2020
URL:https://www.plainstopeaks.org/event/penrose-st-francis-ems-institute-emt-course-63/
LOCATION:CO
END:VEVENT
BEGIN:VEVENT
DTSTART;TZID=America/Denver:20201012T180000
DTEND;TZID=America/Denver:20201012T220000
DTSTAMP:20260425T181258
CREATED:20190904T182150Z
LAST-MODIFIED:20190904T182150Z
UID:4330-1602525600-1602540000@www.plainstopeaks.org
SUMMARY:Penrose St Francis EMS Institute - EMT Course
DESCRIPTION:For complete details\, follow the link: \nPenrose St Francis EMS Institute – EMT Course – July 2020
URL:https://www.plainstopeaks.org/event/penrose-st-francis-ems-institute-emt-course-62/
LOCATION:CO
END:VEVENT
END:VCALENDAR