BEGIN:VCALENDAR
VERSION:2.0
PRODID:-//Plains To Peaks - ECPv6.15.20//NONSGML v1.0//EN
CALSCALE:GREGORIAN
METHOD:PUBLISH
X-WR-CALNAME:Plains To Peaks
X-ORIGINAL-URL:https://www.plainstopeaks.org
X-WR-CALDESC:Events for Plains To Peaks
REFRESH-INTERVAL;VALUE=DURATION:PT1H
X-Robots-Tag:noindex
X-PUBLISHED-TTL:PT1H
BEGIN:VTIMEZONE
TZID:America/Denver
BEGIN:DAYLIGHT
TZOFFSETFROM:-0700
TZOFFSETTO:-0600
TZNAME:MDT
DTSTART:20190310T090000
END:DAYLIGHT
BEGIN:STANDARD
TZOFFSETFROM:-0600
TZOFFSETTO:-0700
TZNAME:MST
DTSTART:20191103T080000
END:STANDARD
BEGIN:DAYLIGHT
TZOFFSETFROM:-0700
TZOFFSETTO:-0600
TZNAME:MDT
DTSTART:20200308T090000
END:DAYLIGHT
BEGIN:STANDARD
TZOFFSETFROM:-0600
TZOFFSETTO:-0700
TZNAME:MST
DTSTART:20201101T080000
END:STANDARD
BEGIN:DAYLIGHT
TZOFFSETFROM:-0700
TZOFFSETTO:-0600
TZNAME:MDT
DTSTART:20210314T090000
END:DAYLIGHT
BEGIN:STANDARD
TZOFFSETFROM:-0600
TZOFFSETTO:-0700
TZNAME:MST
DTSTART:20211107T080000
END:STANDARD
END:VTIMEZONE
BEGIN:VEVENT
DTSTART;TZID=America/Denver:20201104T180000
DTEND;TZID=America/Denver:20201104T220000
DTSTAMP:20260425T215306
CREATED:20190904T182715Z
LAST-MODIFIED:20190904T182715Z
UID:4344-1604512800-1604527200@www.plainstopeaks.org
SUMMARY:Penrose St Francis EMS Institute - EMT Course
DESCRIPTION:For complete details\, follow the link: \nPenrose St Francis EMS Institute – EMT Course – July 2020
URL:https://www.plainstopeaks.org/event/penrose-st-francis-ems-institute-emt-course-69/
END:VEVENT
BEGIN:VEVENT
DTSTART;TZID=America/Denver:20201103T120000
DTEND;TZID=America/Denver:20201103T130000
DTSTAMP:20260425T215306
CREATED:20200930T235632Z
LAST-MODIFIED:20200930T235632Z
UID:4855-1604404800-1604408400@www.plainstopeaks.org
SUMMARY:Children’s Hospital Colorado – Colorado Springs Grand Rounds
DESCRIPTION:Pathological Bone Lesions in the Setting of Trauma Management Principles and Considerations \nFor complete details\, click here to view the flyer.
URL:https://www.plainstopeaks.org/event/childrens-hospital-colorado-colorado-springs-grand-rounds-4/
END:VEVENT
BEGIN:VEVENT
DTSTART;TZID=America/Denver:20201102T180000
DTEND;TZID=America/Denver:20201102T220000
DTSTAMP:20260425T215306
CREATED:20190904T182632Z
LAST-MODIFIED:20190904T182632Z
UID:4342-1604340000-1604354400@www.plainstopeaks.org
SUMMARY:Penrose St Francis EMS Institute - EMT Course
DESCRIPTION:For complete details\, follow the link: \nPenrose St Francis EMS Institute – EMT Course – July 2020
URL:https://www.plainstopeaks.org/event/penrose-st-francis-ems-institute-emt-course-68/
END:VEVENT
BEGIN:VEVENT
DTSTART;TZID=America/Denver:20201028T180000
DTEND;TZID=America/Denver:20201028T220000
DTSTAMP:20260425T215306
CREATED:20190904T182542Z
LAST-MODIFIED:20190904T182542Z
UID:4340-1603908000-1603922400@www.plainstopeaks.org
SUMMARY:Penrose St Francis EMS Institute - EMT Course
DESCRIPTION:For complete details\, follow the link: \nPenrose St Francis EMS Institute – EMT Course – July 2020
URL:https://www.plainstopeaks.org/event/penrose-st-francis-ems-institute-emt-course-67/
END:VEVENT
BEGIN:VEVENT
DTSTART;TZID=America/Denver:20201026T180000
DTEND;TZID=America/Denver:20201026T220000
DTSTAMP:20260425T215306
CREATED:20190904T182502Z
LAST-MODIFIED:20190904T182502Z
UID:4338-1603735200-1603749600@www.plainstopeaks.org
SUMMARY:Penrose St Francis EMS Institute - EMT Course
DESCRIPTION:For complete details\, follow the link: \nPenrose St Francis EMS Institute – EMT Course – July 2020
URL:https://www.plainstopeaks.org/event/penrose-st-francis-ems-institute-emt-course-66/
END:VEVENT
BEGIN:VEVENT
DTSTART;TZID=America/Denver:20201021T180000
DTEND;TZID=America/Denver:20201021T220000
DTSTAMP:20260425T215306
CREATED:20190904T182346Z
LAST-MODIFIED:20190904T182346Z
UID:4336-1603303200-1603317600@www.plainstopeaks.org
SUMMARY:Penrose St Francis EMS Institute - EMT Course
DESCRIPTION:For complete details\, follow the link: \nPenrose St Francis EMS Institute – EMT Course – July 2020
URL:https://www.plainstopeaks.org/event/penrose-st-francis-ems-institute-emt-course-65/
END:VEVENT
BEGIN:VEVENT
DTSTART;TZID=America/Denver:20201020T120000
DTEND;TZID=America/Denver:20201020T130000
DTSTAMP:20260425T215306
CREATED:20200930T235429Z
LAST-MODIFIED:20200930T235429Z
UID:4853-1603195200-1603198800@www.plainstopeaks.org
SUMMARY:Children’s Hospital Colorado – Colorado Springs Grand Rounds
DESCRIPTION:Treating Kids and Teens with Mental Illness in a Pandemic \nFor complete details\, click here to view the flyer.
URL:https://www.plainstopeaks.org/event/childrens-hospital-colorado-colorado-springs-grand-rounds-3/
END:VEVENT
BEGIN:VEVENT
DTSTART;TZID=America/Denver:20201019T180000
DTEND;TZID=America/Denver:20201019T220000
DTSTAMP:20260425T215306
CREATED:20190904T182305Z
LAST-MODIFIED:20190904T182305Z
UID:4334-1603130400-1603144800@www.plainstopeaks.org
SUMMARY:Penrose St Francis EMS Institute - EMT Course
DESCRIPTION:For complete details\, follow the link: \nPenrose St Francis EMS Institute – EMT Course – July 2020
URL:https://www.plainstopeaks.org/event/penrose-st-francis-ems-institute-emt-course-64/
END:VEVENT
BEGIN:VEVENT
DTSTART;TZID=America/Denver:20201014T180000
DTEND;TZID=America/Denver:20201014T220000
DTSTAMP:20260425T215306
CREATED:20190904T182229Z
LAST-MODIFIED:20190904T182229Z
UID:4332-1602698400-1602712800@www.plainstopeaks.org
SUMMARY:Penrose St Francis EMS Institute - EMT Course
DESCRIPTION:For complete details\, follow the link: \nPenrose St Francis EMS Institute – EMT Course – July 2020
URL:https://www.plainstopeaks.org/event/penrose-st-francis-ems-institute-emt-course-63/
END:VEVENT
BEGIN:VEVENT
DTSTART;TZID=America/Denver:20201012T180000
DTEND;TZID=America/Denver:20201012T220000
DTSTAMP:20260425T215306
CREATED:20190904T182150Z
LAST-MODIFIED:20190904T182150Z
UID:4330-1602525600-1602540000@www.plainstopeaks.org
SUMMARY:Penrose St Francis EMS Institute - EMT Course
DESCRIPTION:For complete details\, follow the link: \nPenrose St Francis EMS Institute – EMT Course – July 2020
URL:https://www.plainstopeaks.org/event/penrose-st-francis-ems-institute-emt-course-62/
END:VEVENT
BEGIN:VEVENT
DTSTART;TZID=America/Denver:20201007T180000
DTEND;TZID=America/Denver:20201007T220000
DTSTAMP:20260425T215306
CREATED:20190904T182113Z
LAST-MODIFIED:20190904T182113Z
UID:4328-1602093600-1602108000@www.plainstopeaks.org
SUMMARY:Penrose St Francis EMS Institute - EMT Course
DESCRIPTION:For complete details\, follow the link: \nPenrose St Francis EMS Institute – EMT Course – July 2020
URL:https://www.plainstopeaks.org/event/penrose-st-francis-ems-institute-emt-course-61/
END:VEVENT
BEGIN:VEVENT
DTSTART;TZID=America/Denver:20201006T120000
DTEND;TZID=America/Denver:20201006T130000
DTSTAMP:20260425T215306
CREATED:20200930T235159Z
LAST-MODIFIED:20200930T235159Z
UID:4850-1601985600-1601989200@www.plainstopeaks.org
SUMMARY:Children’s Hospital Colorado – Colorado Springs Grand Rounds
DESCRIPTION:Pediatric Trauma Imaging: The Latest and Greatest Evidence \nFor complete details\, click here to view the flyer.
URL:https://www.plainstopeaks.org/event/childrens-hospital-colorado-colorado-springs-grand-rounds-2/
END:VEVENT
BEGIN:VEVENT
DTSTART;TZID=America/Denver:20201005T180000
DTEND;TZID=America/Denver:20201005T220000
DTSTAMP:20260425T215306
CREATED:20190904T182033Z
LAST-MODIFIED:20190904T182033Z
UID:4326-1601920800-1601935200@www.plainstopeaks.org
SUMMARY:Penrose St Francis EMS Institute - EMT Course
DESCRIPTION:For complete details\, follow the link: \nPenrose St Francis EMS Institute – EMT Course – July 2020
URL:https://www.plainstopeaks.org/event/penrose-st-francis-ems-institute-emt-course-60/
END:VEVENT
BEGIN:VEVENT
DTSTART;TZID=America/Denver:20200930T180000
DTEND;TZID=America/Denver:20200930T220000
DTSTAMP:20260425T215306
CREATED:20190904T175600Z
LAST-MODIFIED:20190904T175612Z
UID:4324-1601488800-1601503200@www.plainstopeaks.org
SUMMARY:Penrose St Francis EMS Institute - EMT Course
DESCRIPTION:For complete details\, follow the link: \nPenrose St Francis EMS Institute – EMT Course – July 2020
URL:https://www.plainstopeaks.org/event/penrose-st-francis-ems-institute-emt-course-59/
END:VEVENT
BEGIN:VEVENT
DTSTART;TZID=America/Denver:20200928T180000
DTEND;TZID=America/Denver:20200928T220000
DTSTAMP:20260425T215306
CREATED:20190904T175510Z
LAST-MODIFIED:20190904T175510Z
UID:4322-1601316000-1601330400@www.plainstopeaks.org
SUMMARY:Penrose St Francis EMS Institute - EMT Course
DESCRIPTION:For complete details\, follow the link: \nPenrose St Francis EMS Institute – EMT Course – July 2020
URL:https://www.plainstopeaks.org/event/penrose-st-francis-ems-institute-emt-course-58/
END:VEVENT
BEGIN:VEVENT
DTSTART;TZID=America/Denver:20200923T180000
DTEND;TZID=America/Denver:20200923T220000
DTSTAMP:20260425T215306
CREATED:20190904T175427Z
LAST-MODIFIED:20190904T175427Z
UID:4320-1600884000-1600898400@www.plainstopeaks.org
SUMMARY:Penrose St Francis EMS Institute - EMT Course
DESCRIPTION:For complete details\, follow the link: \nPenrose St Francis EMS Institute – EMT Course – July 2020
URL:https://www.plainstopeaks.org/event/penrose-st-francis-ems-institute-emt-course-57/
END:VEVENT
BEGIN:VEVENT
DTSTART;TZID=America/Denver:20200921T180000
DTEND;TZID=America/Denver:20200921T220000
DTSTAMP:20260425T215306
CREATED:20190904T175347Z
LAST-MODIFIED:20190904T175347Z
UID:4318-1600711200-1600725600@www.plainstopeaks.org
SUMMARY:Penrose St Francis EMS Institute - EMT Course
DESCRIPTION:For complete details\, follow the link: \nPenrose St Francis EMS Institute – EMT Course – July 2020
URL:https://www.plainstopeaks.org/event/penrose-st-francis-ems-institute-emt-course-56/
END:VEVENT
BEGIN:VEVENT
DTSTART;TZID=America/Denver:20200916T180000
DTEND;TZID=America/Denver:20200916T220000
DTSTAMP:20260425T215306
CREATED:20190904T175304Z
LAST-MODIFIED:20190904T175304Z
UID:4316-1600279200-1600293600@www.plainstopeaks.org
SUMMARY:Penrose St Francis EMS Institute - EMT Course
DESCRIPTION:For complete details\, follow the link: \nPenrose St Francis EMS Institute – EMT Course – July 2020
URL:https://www.plainstopeaks.org/event/penrose-st-francis-ems-institute-emt-course-55/
END:VEVENT
BEGIN:VEVENT
DTSTART;TZID=America/Denver:20200915T120000
DTEND;TZID=America/Denver:20200915T130000
DTSTAMP:20260425T215306
CREATED:20200904T211909Z
LAST-MODIFIED:20200904T211909Z
UID:4846-1600171200-1600174800@www.plainstopeaks.org
SUMMARY:Children's Hospital Colorado - Colorado Springs Grand Rounds
DESCRIPTION:Please see the attached flyer for CHCO COS next Grand Rounds Presentation “Case Discussion: Shoulder Injury After an ATV Rollover” scheduled for Tuesday\, September 15\, 2020 from 12-1pm MT. This will be presented by Dr. David Listman\, MD. \n  \nFor complete details\, click here to view the flyer. \n  \nTo register for the upcoming offering (required to obtain CE credit): \nhttps://cmetracker.net/CHCOLCME/Publisher?page=pubOpen#/EventID/41184 \nTo log in for the offering: \nhttps://ucdenver.zoom.us/j/2448276798
URL:https://www.plainstopeaks.org/event/childrens-hospital-colorado-colorado-springs-grand-rounds/
END:VEVENT
BEGIN:VEVENT
DTSTART;TZID=America/Denver:20200914T180000
DTEND;TZID=America/Denver:20200914T220000
DTSTAMP:20260425T215306
CREATED:20190904T175221Z
LAST-MODIFIED:20190904T175221Z
UID:4314-1600106400-1600120800@www.plainstopeaks.org
SUMMARY:Penrose St Francis EMS Institute - EMT Course
DESCRIPTION:For complete details\, follow the link: \nPenrose St Francis EMS Institute – EMT Course – July 2020
URL:https://www.plainstopeaks.org/event/penrose-st-francis-ems-institute-emt-course-54/
END:VEVENT
BEGIN:VEVENT
DTSTART;TZID=America/Denver:20200909T180000
DTEND;TZID=America/Denver:20200909T220000
DTSTAMP:20260425T215306
CREATED:20190904T175024Z
LAST-MODIFIED:20190904T175024Z
UID:4312-1599674400-1599688800@www.plainstopeaks.org
SUMMARY:Penrose St Francis EMS Institute - EMT Course
DESCRIPTION:For complete details\, follow the link: \nPenrose St Francis EMS Institute – EMT Course – July 2020
URL:https://www.plainstopeaks.org/event/penrose-st-francis-ems-institute-emt-course-53/
END:VEVENT
BEGIN:VEVENT
DTSTART;TZID=America/Denver:20200907T180000
DTEND;TZID=America/Denver:20200907T220000
DTSTAMP:20260425T215306
CREATED:20190904T174948Z
LAST-MODIFIED:20190904T174948Z
UID:4310-1599501600-1599516000@www.plainstopeaks.org
SUMMARY:Penrose St Francis EMS Institute - EMT Course
DESCRIPTION:For complete details\, follow the link: \nPenrose St Francis EMS Institute – EMT Course – July 2020
URL:https://www.plainstopeaks.org/event/penrose-st-francis-ems-institute-emt-course-52/
END:VEVENT
BEGIN:VEVENT
DTSTART;TZID=America/Denver:20200902T180000
DTEND;TZID=America/Denver:20200902T220000
DTSTAMP:20260425T215306
CREATED:20190904T174903Z
LAST-MODIFIED:20190904T174903Z
UID:4308-1599069600-1599084000@www.plainstopeaks.org
SUMMARY:Penrose St Francis EMS Institute - EMT Course
DESCRIPTION:For complete details\, follow the link: \nPenrose St Francis EMS Institute – EMT Course – July 2020
URL:https://www.plainstopeaks.org/event/penrose-st-francis-ems-institute-emt-course-51/
END:VEVENT
BEGIN:VEVENT
DTSTART;TZID=America/Denver:20200831T180000
DTEND;TZID=America/Denver:20200831T220000
DTSTAMP:20260425T215306
CREATED:20190904T174822Z
LAST-MODIFIED:20190904T174822Z
UID:4306-1598896800-1598911200@www.plainstopeaks.org
SUMMARY:Penrose St Francis EMS Institute - EMT Course
DESCRIPTION:For complete details\, follow the link: \nPenrose St Francis EMS Institute – EMT Course – July 2020
URL:https://www.plainstopeaks.org/event/penrose-st-francis-ems-institute-emt-course-50/
END:VEVENT
BEGIN:VEVENT
DTSTART;TZID=America/Denver:20200826T180000
DTEND;TZID=America/Denver:20200826T220000
DTSTAMP:20260425T215306
CREATED:20190904T174728Z
LAST-MODIFIED:20190904T174728Z
UID:4304-1598464800-1598479200@www.plainstopeaks.org
SUMMARY:Penrose St Francis EMS Institute - EMT Course
DESCRIPTION:For complete details\, follow the link: \nPenrose St Francis EMS Institute – EMT Course – July 2020
URL:https://www.plainstopeaks.org/event/penrose-st-francis-ems-institute-emt-course-49/
END:VEVENT
BEGIN:VEVENT
DTSTART;TZID=America/Denver:20200826T180000
DTEND;TZID=America/Denver:20200826T220000
DTSTAMP:20260425T215306
CREATED:20190904T164617Z
LAST-MODIFIED:20190904T164617Z
UID:4203-1598464800-1598479200@www.plainstopeaks.org
SUMMARY:Penrose St Francis EMS Institute - EMT IV Course
DESCRIPTION:For complete details\, follow the link: \nPenrose St Francis EMS Institute – EMT IV Course – August 2020
URL:https://www.plainstopeaks.org/event/penrose-st-francis-ems-institute-emt-iv-course-16/
END:VEVENT
BEGIN:VEVENT
DTSTART;TZID=America/Denver:20200824T180000
DTEND;TZID=America/Denver:20200824T220000
DTSTAMP:20260425T215306
CREATED:20190904T174642Z
LAST-MODIFIED:20190904T174642Z
UID:4302-1598292000-1598306400@www.plainstopeaks.org
SUMMARY:Penrose St Francis EMS Institute - EMT Course
DESCRIPTION:For complete details\, follow the link: \nPenrose St Francis EMS Institute – EMT Course – July 2020
URL:https://www.plainstopeaks.org/event/penrose-st-francis-ems-institute-emt-course-48/
END:VEVENT
BEGIN:VEVENT
DTSTART;TZID=America/Denver:20200824T180000
DTEND;TZID=America/Denver:20200824T220000
DTSTAMP:20260425T215306
CREATED:20190904T164532Z
LAST-MODIFIED:20190904T164532Z
UID:4201-1598292000-1598306400@www.plainstopeaks.org
SUMMARY:Penrose St Francis EMS Institute - EMT IV Course
DESCRIPTION:For complete details\, follow the link: \nPenrose St Francis EMS Institute – EMT IV Course – August 2020
URL:https://www.plainstopeaks.org/event/penrose-st-francis-ems-institute-emt-iv-course-15/
END:VEVENT
BEGIN:VEVENT
DTSTART;TZID=America/Denver:20200819T180000
DTEND;TZID=America/Denver:20200819T220000
DTSTAMP:20260425T215306
CREATED:20190904T174601Z
LAST-MODIFIED:20190904T174601Z
UID:4300-1597860000-1597874400@www.plainstopeaks.org
SUMMARY:Penrose St Francis EMS Institute - EMT Course
DESCRIPTION:For complete details\, follow the link: \nPenrose St Francis EMS Institute – EMT Course – July 2020
URL:https://www.plainstopeaks.org/event/penrose-st-francis-ems-institute-emt-course-47/
END:VEVENT
BEGIN:VEVENT
DTSTART;TZID=America/Denver:20200819T180000
DTEND;TZID=America/Denver:20200819T220000
DTSTAMP:20260425T215306
CREATED:20190904T164442Z
LAST-MODIFIED:20190904T164442Z
UID:4199-1597860000-1597874400@www.plainstopeaks.org
SUMMARY:Penrose St Francis EMS Institute - EMT IV Course
DESCRIPTION:For complete details\, follow the link: \nPenrose St Francis EMS Institute – EMT IV Course – August 2020
URL:https://www.plainstopeaks.org/event/penrose-st-francis-ems-institute-emt-iv-course-14/
END:VEVENT
END:VCALENDAR